BEGIN:VCALENDAR
VERSION:2.0
PRODID:-//hacksw/handcal//NONSGML v1.0//EN
BEGIN:VEVENT
SUMMARY:TOURNOI DE LA FRANCOPHONIE
UID:308a7313-dc3a-4640-8834-7af6bd4d358c
DTSTART:20260412T120000Z
DTEND:20260412T160000Z
LOCATION:Localisation   
CATEGORIES:Sportif
STATUS:
URL;VALUE=URI:https://bridgeclublunion.club.ffbridge.fr/evenements/2026/04/12/tournoi-de-la-francophonie-2434485
END:VEVENT
END:VCALENDAR
