BEGIN:VCALENDAR
VERSION:2.0
PRODID:-//hacksw/handcal//NONSGML v1.0//EN
BEGIN:VEVENT
SUMMARY:FINALE COMITE CALLENGE A 2
UID:9124b60e-c17c-4f23-8609-46bb2939dcb8
DTSTART:20260411T110000Z
DTEND:20260411T160000Z
LOCATION:Localisation   
CATEGORIES:Sportif
STATUS:
URL;VALUE=URI:https://bridgeclublunion.club.ffbridge.fr/evenements/2026/04/11/finale-comite-callenge-a-2-2434480
END:VEVENT
END:VCALENDAR
