BEGIN:VCALENDAR
VERSION:2.0
PRODID:-//hacksw/handcal//NONSGML v1.0//EN
BEGIN:VEVENT
SUMMARY:FINALE NATIONALE SENIOR MIXTE PERFORMANCE A 2
UID:b104c609-94b5-42ff-8563-3f927bcdec51
DTSTART:20260331T080000Z
DTEND:20260331T160000Z
LOCATION:Localisation   
CATEGORIES:Sportif
STATUS:
URL;VALUE=URI:https://bridgeclublunion.club.ffbridge.fr/evenements/2026/03/31/finale-nationale-senior-mixte-performance-a-2-2434355
END:VEVENT
END:VCALENDAR
