BEGIN:VCALENDAR
VERSION:2.0
PRODID:-//hacksw/handcal//NONSGML v1.0//EN
BEGIN:VEVENT
SUMMARY:1/2 FINALE COMITE CALLENGE A 2
UID:8ad1c7ea-5d08-4ecb-b805-80b1bfb3b0b1
DTSTART:20260314T120000Z
DTEND:20260314T170000Z
LOCATION:Localisation   
CATEGORIES:Sportif
STATUS:
URL;VALUE=URI:https://bridgeclublunion.club.ffbridge.fr/evenements/2026/03/14/12-finale-comite-callenge-a-2-2429727
END:VEVENT
END:VCALENDAR
