BEGIN:VCALENDAR
VERSION:2.0
PRODID:-//hacksw/handcal//NONSGML v1.0//EN
BEGIN:VEVENT
SUMMARY:DEMIE FINALE COMITE CHALLENGE PRINTEMPS
UID:34adde27-15c7-4a40-b367-ac24eedc10e9
DTSTART:20260310T093000Z
DTEND:20260310T160000Z
LOCATION:Localisation   
CATEGORIES:Sportif
STATUS:
URL;VALUE=URI:https://bridgeclublunion.club.ffbridge.fr/evenements/2026/03/10/demie-finale-comite-challenge-printemps-2426610
END:VEVENT
END:VCALENDAR
