BEGIN:VCALENDAR
VERSION:2.0
PRODID:-//hacksw/handcal//NONSGML v1.0//EN
BEGIN:VEVENT
SUMMARY:TOURNOI 70 ANS PRESIDENT
UID:99666b33-87fc-4942-b900-1ab9236461a2
DTSTART:20260228T133000Z
DTEND:20260228T170000Z
LOCATION:Localisation   
CATEGORIES:Sportif
STATUS:
URL;VALUE=URI:https://bridgeclublunion.club.ffbridge.fr/evenements/2026/02/28/tournoi-70-ans-president-2423215
END:VEVENT
END:VCALENDAR
